BEGIN:VCALENDAR
PRODID:-//dvv-bw.de//dvv.Portalplattform//DE
VERSION:2.0
METHOD:PUBLISH
BEGIN:VEVENT
DTSTART:20260425T180000Z
DTEND:20260425T200000Z
DTSTAMP:20260419T181256Z
UID:523253290252-523253290251-1777068000000
SUMMARY:Festabend
LOCATION:Robert-Balle-Festhalle
DESCRIPTION:Festabend
CLASS:PUBLIC
X-ALT-DESC;FMTTYPE=text/html:Festabend
END:VEVENT
END:VCALENDAR
